BEGIN:VCALENDAR
VERSION:2.0
PRODID:-//SEI-KI HUB - ECPv6.15.20//NONSGML v1.0//EN
CALSCALE:GREGORIAN
METHOD:PUBLISH
X-ORIGINAL-URL:https://www.seikihub.com/?lang=de
X-WR-CALDESC:Veranstaltungen für SEI-KI HUB
REFRESH-INTERVAL;VALUE=DURATION:PT1H
X-Robots-Tag:noindex
X-PUBLISHED-TTL:PT1H
BEGIN:VTIMEZONE
TZID:Europe/Paris
BEGIN:DAYLIGHT
TZOFFSETFROM:+0100
TZOFFSETTO:+0200
TZNAME:CEST
DTSTART:20250330T010000
END:DAYLIGHT
BEGIN:STANDARD
TZOFFSETFROM:+0200
TZOFFSETTO:+0100
TZNAME:CET
DTSTART:20251026T010000
END:STANDARD
BEGIN:DAYLIGHT
TZOFFSETFROM:+0100
TZOFFSETTO:+0200
TZNAME:CEST
DTSTART:20260329T010000
END:DAYLIGHT
BEGIN:STANDARD
TZOFFSETFROM:+0200
TZOFFSETTO:+0100
TZNAME:CET
DTSTART:20261025T010000
END:STANDARD
BEGIN:DAYLIGHT
TZOFFSETFROM:+0100
TZOFFSETTO:+0200
TZNAME:CEST
DTSTART:20270328T010000
END:DAYLIGHT
BEGIN:STANDARD
TZOFFSETFROM:+0200
TZOFFSETTO:+0100
TZNAME:CET
DTSTART:20271031T010000
END:STANDARD
END:VTIMEZONE
BEGIN:VEVENT
DTSTART;TZID=Europe/Paris:20260117T100000
DTEND;TZID=Europe/Paris:20260117T180000
DTSTAMP:20260420T201155
CREATED:20250803T111949Z
LAST-MODIFIED:20260115T100517Z
UID:14685-1768644000-1768672800@www.seikihub.com
SUMMARY:Sei-Ki Immersion Day | Wien
DESCRIPTION:Tages-Workshop mit Alexandra Gelny in Wien\n\n\n\n\n\n\n\n\n\n\n\n\n\n\nEinen Tag lang eintauchen in Sei-Ki.In Wien.Gemeinsam.Neues lernen.Deine Praxis vertiefen.Deine Beobachtung schärfen.Deine Sensibilität kräftigen.Aufmerksamkeit und Präsenz verfeinern.Sei-Ki. Ki-Do-Ma. Katsugen Undō. Gyoki. Bewegen. Spüren. Atmen. Schauen. Horchen. Vertrauen.Entdecken. Genießen. Ausprobieren. Erforschen. Finden.Da sein. Leben. Resonanz. \n\n\n\n\nSei-Ki ist der Way of Touch: der Weg und die Kunst der Berührung in ungeteilter Aufmerksamkeit für die Person und für das\, was sich hier und in diesem Moment zeigt. Es ist\, das als „wahr“ zu nehmen\, was wir wahrnehmen\, ohne zu beurteilen und ohne reparieren zu wollen. \nDamit wir im Sei-Ki gut spüren und in Resonanz gehen können\, braucht es einen guten\, offenen und empfangsbereiten Raum in uns. Nichts suchen. Nichts erzwingen. Nichts wollen. Aber präsent sein. Aufmerksam. Beobachtend. Reaktionsbereit. \nDafür gibt es keine „Schalter“ in uns\, die wir einfach umlegen können. Das braucht Übung und auch Feedback. Und es braucht die Konsequenz im Üben\, damit die Leichtigkeit und Tiefe im Sehen\, im Spüren und in der Berührung wachsen können. \nDer Workshop ist offen für Teilnehmer:innnen mit oder ohne vorherige Sei-Ki Erfahrung. \n\nDu hast schon Sei-Ki Erfahrung…\nKennst du das? Du hast an einem Sei-Ki Workshop teilgenommen und spürst das Sei-Ki quasi noch „in den Knochen“. In den Tagen und Wochen danach fällt dir Sei-Ki leicht\, es ist einfacher als sonst. Nach und nach verflüchtigt sich dieses Erleben… \nUm dein Sei-Ki wachzuhalten und weiterzuentwickeln\, hilft es\, dranzubleiben\, kontinuierlich. Mit den Sei-Ki Immersion Days hoffe ich\, dir den dafür geeigneten Rahmen und eine motivierende Begleitung anzubieten. \nSei-Ki ist neu für dich…\nDu bist neugierig und dich spricht dieses Format an\, um aktiv Sei-Ki kennenzulernen? Du bist herzlich willkommen! Gut wäre es\, wenn dir die Arbeit mit Berührung an einer anderen Person nicht komplett fremd ist und für dich das Arbeiten auf der Matte am Boden körperlich möglich ist. Wenn Sei-Ki für dich neu ist\, empfehle ich\, nicht nur an einem einzelnen Tag teilzunehmen und eventuell zumindest einmal vorher eine Sei-Ki Behandlung erhalten zu haben. \n\nSei-Ki braucht \ndas Leichte und das Sich-Hingeben\,das Kontinuierliche und das Spontane\,Neugier und Geduld\,Mut und Vertrauen\,Raum und Zeit. \n\nDie Sei-Ki Immersion Days werden dir helfen\, deine Sei-Ki Praxis konkret zu verfeinern\, deine Präsenz und Aufmerksamkeit zu trainieren\, deine Sensibilität zu entwickeln und zu lernen\, dich besser auf’s Spüren im Sei-Ki einzulassen. Sie werden dich motivieren\, mit Sei-Ki weiterzumachen. \n\nWas dich erwartet\nJeder Sei-Ki Immersion Day hat eine Art Fokus-Thema\, das zu den Sei-Ki Grundlagen gehört und auch an die Gruppe angepasst wird. Wie zum Beispiel: \n\nÜben der Beobachtungsfähigkeit – das Herz von Sei-Ki!\nKi-Do-Ma (die richtige Zeit\, das richtige Maß\, der richtige Raum)\nIntuition im Sei-Ki\nAtem / dem Atem folgen\nHara-Koshi-Training\nMu-shin (leerer Geist)\nIn Berührung gehen mit der Hand / Nicht-Hand\nKatsugen (spontane Bewegung\, eigentlich „ursprüngliche Lebendigkeit“)\n… oder ganz praktische Themen wie etwa das Finden der eigenen besten Positionen beim Sei-Ki-Geben.\n\nElemente eines Sei-Ki Immersion Days\n\nInput\, Übungsvorschläge und Feedback\nAustausch\, angeleitete Übungen\, freies Bewegen (Gyoki\, Katsugen\, …)\nSei-Ki Session zum Beobachten\nÜben aneinander\nein Safe Space zum Spüren und Erforschen\nStille und gemeinsames zur Ruhe kommen\n\n\n\n\n\n\n\n\nIn Kooperation mit derInternational Academy of Hara Shiatsu \n\n\n\nTeilnahmegebühr: 110 Euro \n\n\n\nSprache: Deutsch \n\n\n\nDatum & Zeit:Sa\, 17. Jänner 202610-18 Uhr \n\n\n\nWeitere Termine:So\, 24. Mai 2026und dann wieder ab Herbst 2026 \n\n\n\n\n\n\n\n\n\n\n\n\n\n    Jetzt anmelden\n\n\n\n\n\n\n\n\n\n\n\nAlexandra Gelny\n\n\n\nbegann ihren Sei-Ki Weg mit Kishi Akinobu 2011 und setzte ihn dann mit Kishi Kyoko und schließlich mit Alice Whieldon fort\, mit der sie heute eng zusammenarbeitet. Sie praktiziert Sei-Ki in ihrer Praxis in Wien und vermittelt Sei-Ki seit 2018. \n\n\n\n2024 hat sie gemeinsam mit Alice Whieldon und Maria Kokori den Sei-Ki Hub gegründet und das Sei-Ki Training entwickelt. \n\n\nMehr über Alexandra\n\n\n\n\nAnmeldung\n\n\n\nDer 17. Jänner ist jetzt ausgebucht. Der nächste Sei-Ki Workshop in Wien ist 27.2.-1.3. und der nächste Sei-Ki Immersion Day findet am 24. Mai statt. \n\n\n\n\n\n  \n\n\n\n\n\nBitte lasse dieses Feld leer.\n \n\n	ANMELDUNG FÜR*\n	 \n	\n		Sei-Ki Immersion Day 24. Mai 2026\n		 \n	\n	\n	\n	Bitte melde dich zeitgerecht vor dem jeweiligen Termin an. Danke!\nKurszeiten: jeweils 10 bis 18 Uhr\n	 \n	NAME*\n	 \n	\n		\n		 \n	\n	\n	\n	\n		\n		 \n	\n	\n	\n	KONTAKT*\n	 \n	\n		\n		 \n	\n	\n	\n	\n		\n		 \n	\n	\n	\n	Ich bringe Sei-Ki Erfahrung mit:\nJaNein\n	 \n	Mein beruflicher Background:\nShiatsu-Praktiker*in (bzw. in Ausbildung)Praktiker*in einer anderen Methode der KörperarbeitAnderes\n	 \n	ANMERKUNGEN\n Gibt es noch etwas\, das du für Anmeldung für wichtig hältst und das wir wissen sollten? (optional) \n	 \n	\n		\n		 \n	\n	\n	\n	BEDINGUNGEN*\nNach deiner Anmeldung erhältst du eine automatische Bestätigung\, und anschließend eine Rechnung über die Workshop-Gebühr. Fallweise ist die Bezahlung einer Anzahlung für das Sichern deines Platzes im Workshop notwendig. Die Rechnung enthält die entsprechende Info dazu.\n\nStornierung: Du kannst deine Teilnahme jederzeit stornieren. \nStornierung von 1-Tages-Workshops: ist bis 48 Stunden vor dem Workshop ohne Kosten möglich; bei kurzfristigeren Absagen behalten wir uns vor\, die Kursgebühr einzubehalten.\nStornierung von Mehr-Tages-Workshops: bis zu zwei Wochen vor Kursbeginn berechnen wir eine pauschale Bearbeitungsgebühr von € 40. Bei späteren Stornierungen werden 100% der Kursgebühr einbehalten. \nDie Gebühren bei einem Storno entfallen\, wenn es eine Warteliste gibt und dein Platz von jemand anderem eingenommen wird.\nDer Workshop findet nur statt\, wenn es genügend Anmeldungen gibt. Wenn wir einen Workshop absagen\, erhältst du die volle Rückerstattung der von dir gezahlten Kursgebühren.\n	 \n	DATENSCHUTZ*\nMit dem Absenden dieses Formulars erkennst du die Datenschutzbestimmungen von Sei-Ki Hub an und akzeptierst sie.
URL:https://www.seikihub.com/event/sei-ki-immersion-day-wien-5/?lang=de
LOCATION:International Academy for Hara Shiatsu\, Josefstädter Strasse 5/10\, Wien\, 1080\, Austria
CATEGORIES:Workshop
ATTACH;FMTTYPE=image/jpeg:https://www.seikihub.com/wp-content/uploads/2025/08/IMG20250502131735.jpeg
END:VEVENT
BEGIN:VEVENT
DTSTART;TZID=Europe/Paris:20260130T000000
DTEND;TZID=Europe/Paris:20260201T235959
DTSTAMP:20260420T201155
CREATED:20251025T115237Z
LAST-MODIFIED:20251025T175724Z
UID:15178-1769731200-1769990399@www.seikihub.com
SUMMARY:Sei-Ki & Space | Zürich
DESCRIPTION:Ein dreitägiger Workshop in der Nähe von Zürich\, Schweiz\, mit Alice Whieldon MA PhD. Dieser Workshop richtet sich sowohl an Sei-Ki-Neulinge als auch an diejenigen\, die schon etwas Erfahrung haben.   EN (DE)\n\n\nRaum ist überall\, und doch erleben wir unser Leben oft nicht als geräumig\, sondern als beengt. Das hilft uns weder im Sei-Ki noch in anderen Bereichen des Lebens.    \n\n\nDer Schwerpunkt dieses Workshops liegt darauf\, wie wir Raum entwickeln und erleben können: \n\n\nRaum in deiner Berührung\n\n\n\nWeite in sich selbst\, erlebt in sanfter Ausdehnung\n\n\n\nDie Weite des Nicht-Tuns\n\n\n\nRaum zwischen dir und einem:einer Klienten:Klientin\, ma\n\n\n\nRaum berühren | das Leben berühren\n\n\nWir sind im Leben viel am Tun und am Ausprobieren. Wir versuchen\, unseren Klient:innen das zu geben\, was sie wollen und brauchen\, kompetente Therapeut:innen zu sein\, unseren Lebensunterhalt zu verdienen\, pünktlich nach Hause zu kommen und all die anderen Dinge\, die wir in unserem Leben „tun“. Gelegentlich finden wir Fluss und Leichtigkeit\, merken aber dann\, dass wir wieder in ein intensives „Tun“ verfallen\, sei es beim Abwasch oder beim Versuch\, jemanden zu heilen.   \n\nGegen das „Tun“ an sich ist nichts einzuwenden\, aber wenn dieser Modus dominiert\, werden wir irgendwann müde und verlieren uns im Narrativ von Leistung und Kontrolle. Es gibt einen anderen Weg\, bei dem Bewegung von innen kommt\, ohne Kraft und Anstrengung. Die Kultivierung des Nicht-Tuns und die großzügige Bewegung sind wichtige Aspekte von Sei-Ki.   \n\nRaum zu finden und in Fluss zu kommen ist eine Erkundung\, die deiner Berührung nicht nur neue Impulse und Dimensionen verleiht und deinen Klient:innen den Raum bietet\, sich zu entfalten\, sondern auch das Potenzial hat\, andere Lebensbereiche zu beeinflussen. \n\nIn diesem Workshop werden wir durch angeleitete Übungen\, praktisches Übungen\, Empfangen und Nachfragen den Raum kultivieren\, den du brauchst: \n\n\nErforsche raumgreifende Berührung und was es bedeutet\, so zu berühren\, als würdest du Berührung empfangen\n\n\n\nAufmerksamkeit entwickeln\n\n\n\nKultiviere Vertrauen in dich selbst\n\n\n\nGenieße ein entspanntes Wochenende – erhalte und gib Sessions in einer angenehmen Umgebung\n\n\nDu brauchst keine Vorkenntnisse in Sei-Ki – nur einen offenen Geist und die Bereitschaft\, den Raum zu erkunden. \n\n\n\n\n\n\n\nDetails\nZeiten:Freitag\, 30. Januar 9.30 – 18.00 UhrSamstag\, 31. Januar 9.30 – 18.00 UhrSonntag\, 1. Februar 10.00 – 17.00 Uhr \nSprache:Englisch mit Sprachunterstützung für Deutsch \n\n\n\n\n\nTeilnahmebeitrag: \n767 CHF (698 CHF für SGS-Mitglieder) \nOrganisatorin:Dana Martelli \n\n\n\n\n\n\n    Sign up now\n\n\n\n\n\nAlice Whieldon \n\n\n\nGründerin und Leiterin des Sei-Ki Hub und des Sei-Ki Training \n\n\n\nLeiterin dieses Workshops \n\n\n\nMore about Alice
URL:https://www.seikihub.com/event/sei-ki-space-zuerich/?lang=de
LOCATION:Kó Lebensschule\, Im Gstein 110\, Embach\, 8424\, Switzerland
CATEGORIES:Workshop
ATTACH;FMTTYPE=image/jpeg:https://www.seikihub.com/wp-content/uploads/2025/04/IMG_5809-scaled.jpeg
ORGANIZER;CN="Dana Martelli":MAILTO:dana.martelli@gmx.ch
END:VEVENT
END:VCALENDAR